BEGIN:VCALENDAR
VERSION:2.0
CALSCALE:GREGORIAN
PRODID:-//Diputació de Barcelona//DibaCMS//EN
BEGIN:VEVENT
UID:4773
DTSTAMP:20260422T180250
DTSTART:20220507T210000
DTEND:20220507T220000
SUMMARY:La Música del Cel 
LOCATION:c. Jovara, 39 08370 Calella
METHOD:PUBLISH
X-WR-CALNAME:calella@calella.cat
X-WR-TIMEZONE:Europe/Madrid
DESCRIPTION:Marisa Martins (mezzosoprano), Claudi Arimany i Eduard Sànchez (flautes), i Pedro Rodríguez (clavicèmbal)

URI:https://www.calella.cat/actualitat/agenda/la-musica-del-cel-.html
CLASS:PUBLIC
END:VEVENT
END:VCALENDAR
