BEGIN:VCALENDAR
VERSION:2.0
CALSCALE:GREGORIAN
PRODID:-//Diputació de Barcelona//DibaCMS//EN
BEGIN:VEVENT
UID:4770
DTSTAMP:20260424T040429
DTSTART:20220507T090000
DTEND:20220507T100000
SUMMARY:Fem Dissabte i cuidem el nostre entorn
LOCATION:A l’aparcament de les Torretes 
METHOD:PUBLISH
X-WR-CALNAME:calella@calella.cat
X-WR-TIMEZONE:Europe/Madrid
DESCRIPTION:activitat de neteja de l’entorn inscrita al Let’s Clean up Europe

URI:https://www.calella.cat/actualitat/agenda/fem-dissabte-i-cuidem-el-nostre-entorn.html
CLASS:PUBLIC
END:VEVENT
END:VCALENDAR
