BEGIN:VCALENDAR
VERSION:2.0
CALSCALE:GREGORIAN
PRODID:-//Diputació de Barcelona//DibaCMS//EN
BEGIN:VEVENT
UID:4765
DTSTAMP:20260424T022845
DTSTART:20220506T100000
DTEND:20220506T140000
SUMMARY:Acció formativa “Dissenya el teu CV amb Canvia i destaca sobre la resta”
LOCATION:c. Sant Jaume, 225-229 08370 Calella
METHOD:PUBLISH
X-WR-CALNAME:calella@calella.cat
X-WR-TIMEZONE:Europe/Madrid
DESCRIPTION:Adreçada persones aturades 

URI:https://www.calella.cat/actualitat/agenda/accio-formativa-dissenya-el-teu-cv-amb-canvia-i-destaca-sobre-la-resta.html
CLASS:PUBLIC
END:VEVENT
END:VCALENDAR
