BEGIN:VCALENDAR
VERSION:2.0
CALSCALE:GREGORIAN
PRODID:-//Diputació de Barcelona//DibaCMS//EN
BEGIN:VEVENT
UID:4764
DTSTAMP:20260424T005146
DTSTART:20220505T180000
DTEND:20220505T190000
SUMMARY:Exposició pública de treballs de recerca de 2n de Batxillerat
LOCATION:c. Sant Jaume, 225-229 08370 Calella
METHOD:PUBLISH
X-WR-CALNAME:calella@calella.cat
X-WR-TIMEZONE:Europe/Madrid
DESCRIPTION:
	Diabetes: the next epidemic
	Cultura en temps de COVID
	The Circular Economy
	I want to be a escriptor


URI:https://www.calella.cat/actualitat/agenda/4764-exposicio-publica-de-treballs-de-recerca-de-2n-de-batxillerat.html
CLASS:PUBLIC
END:VEVENT
END:VCALENDAR
