BEGIN:VCALENDAR
VERSION:2.0
CALSCALE:GREGORIAN
PRODID:-//Diputació de Barcelona//DibaCMS//EN
BEGIN:VEVENT
UID:4761
DTSTAMP:20260424T102953
DTSTART:20220504T183000
DTEND:20220504T193000
SUMMARY:Conferència: África en un món multipolar
LOCATION:c. Sant Jaume, 225-229 08370 Calella
METHOD:PUBLISH
X-WR-CALNAME:calella@calella.cat
X-WR-TIMEZONE:Europe/Madrid
DESCRIPTION:A càrrec del Dr. Oscar Mateos, doctor en Relacions internacionals

URI:https://www.calella.cat/actualitat/agenda/conferencia-africa-en-un-mon-multipolar.html
CLASS:PUBLIC
END:VEVENT
END:VCALENDAR
