BEGIN:VCALENDAR
VERSION:2.0
CALSCALE:GREGORIAN
PRODID:-//Diputació de Barcelona//DibaCMS//EN
BEGIN:VEVENT
UID:4756
DTSTAMP:20260424T143457
DTSTART:20220502T183000
DTEND:20220502T193000
SUMMARY:Club de lectura
LOCATION:Plaça de l'Ajuntament, 31 08370 Calella
METHOD:PUBLISH
X-WR-CALNAME:calella@calella.cat
X-WR-TIMEZONE:Europe/Madrid
DESCRIPTION:Llibre Obert a càrrec d’en Lluis Barri amb el  comentari de: La Vida sense la Sara Amat de Pep Puig.

URI:https://www.calella.cat/actualitat/agenda/4756-club-de-lectura.html
CLASS:PUBLIC
END:VEVENT
END:VCALENDAR
