BEGIN:VCALENDAR
VERSION:2.0
CALSCALE:GREGORIAN
PRODID:-//Diputació de Barcelona//DibaCMS//EN
BEGIN:VEVENT
UID:4750
DTSTAMP:20260424T131526
DTSTART:20220501T183000
DTEND:20220501T233000
SUMMARY:Perfectes desconeguts
LOCATION:c. Església, 249-251 08370 Calella
METHOD:PUBLISH
X-WR-CALNAME:calella@calella.cat
X-WR-TIMEZONE:Europe/Madrid
DESCRIPTION:A càrrec de Joventut Artística de Calella. La venda d'entrades es farà online (10€ no socis i 8€ socis) i a la finestreta del teatre 45 minuts abans de cada representació.

URI:https://www.calella.cat/actualitat/agenda/4750-perfectes-desconeguts.html
CLASS:PUBLIC
END:VEVENT
END:VCALENDAR
