BEGIN:VCALENDAR
VERSION:2.0
CALSCALE:GREGORIAN
PRODID:-//Diputació de Barcelona//DibaCMS//EN
BEGIN:VEVENT
UID:4749
DTSTAMP:20260424T203750
DTSTART:20220501T090000
DTEND:20220501T140000
SUMMARY:Trobada d’intercanvi i col·leccionisme
LOCATION:c. Anselm Clavé, s/n 08370 Calella
METHOD:PUBLISH
X-WR-CALNAME:calella@calella.cat
X-WR-TIMEZONE:Europe/Madrid
DESCRIPTION:Organitza: Ass. Roca Grossa.

URI:https://www.calella.cat/actualitat/agenda/4749-trobada-dintercanvi-i-colleccionisme.html
CLASS:PUBLIC
END:VEVENT
END:VCALENDAR
