BEGIN:VCALENDAR
VERSION:2.0
CALSCALE:GREGORIAN
PRODID:-//Diputació de Barcelona//DibaCMS//EN
BEGIN:VEVENT
UID:4748
DTSTAMP:20260424T023036
DTSTART:20220507T100000
DTEND:20220507T190000
SUMMARY:Mostra de documentació: “A l’abordatge! Calella en temps de pirates”
LOCATION:c. Escoles Pies, 36 08370 Calella
METHOD:PUBLISH
X-WR-CALNAME:calella@calella.cat
X-WR-TIMEZONE:Europe/Madrid
DESCRIPTION:amb motiu de la Fira Renaixentista

URI:https://www.calella.cat/actualitat/agenda/mostra-de-documentacio-a-labordatge-calella-en-temps-de-pirates.html
CLASS:PUBLIC
END:VEVENT
END:VCALENDAR
