BEGIN:VCALENDAR
VERSION:2.0
CALSCALE:GREGORIAN
PRODID:-//Diputació de Barcelona//DibaCMS//EN
BEGIN:VEVENT
UID:4736
DTSTAMP:20260424T055529
DTSTART:20220422T180000
DTEND:20220422T190000
SUMMARY:Visita comentada de l'exposició de Masao Yamamoto
LOCATION:Plaça de l'Ajuntament, 1-4 08370 Calella
METHOD:PUBLISH
X-WR-CALNAME:calella@calella.cat
X-WR-TIMEZONE:Europe/Madrid
DESCRIPTION:La visita comentada de l'exposició "Small things in silence" anirà a càrrec dels mateixos organitzadors.

URI:https://www.calella.cat/actualitat/agenda/visita-comentada-de-lexposicio-de-masao-yamamoto.html
CLASS:PUBLIC
END:VEVENT
END:VCALENDAR
