BEGIN:VCALENDAR
VERSION:2.0
CALSCALE:GREGORIAN
PRODID:-//Diputació de Barcelona//DibaCMS//EN
BEGIN:VEVENT
UID:4728
DTSTAMP:20260424T071923
DTSTART:20220413T000000
DTEND:20220413T000000
SUMMARY:Exposició anual commemorativa de l'Any Maria Cardona
LOCATION:Plaça de l'Ajuntament, 31 08370 Calella
METHOD:PUBLISH
X-WR-CALNAME:calella@calella.cat
X-WR-TIMEZONE:Europe/Madrid
DESCRIPTION:Exposició dels records de la Maria Cardona, les seves creacions poètiques i la seva vida a Calella. 

 

 

URI:https://www.calella.cat/actualitat/agenda/4728-exposicio-anual-commemorativa-de-lany-maria-cardona.html
CLASS:PUBLIC
END:VEVENT
END:VCALENDAR
