BEGIN:VCALENDAR
VERSION:2.0
CALSCALE:GREGORIAN
PRODID:-//Diputació de Barcelona//DibaCMS//EN
BEGIN:VEVENT
UID:4723
DTSTAMP:20260424T114819
DTSTART:20220501T121500
DTEND:20220501T131500
SUMMARY:Dansa Urbana
LOCATION:Plaça de l'Ajuntament 08370 Calella
METHOD:PUBLISH
X-WR-CALNAME:calella@calella.cat
X-WR-TIMEZONE:Europe/Madrid
DESCRIPTION:animacions per a grans i petits amb fusió de danses i l’actuació,  a càrrec de Fanatix

URI:https://www.calella.cat/actualitat/agenda/dansa-urbana.html
CLASS:PUBLIC
END:VEVENT
END:VCALENDAR
