BEGIN:VCALENDAR
VERSION:2.0
CALSCALE:GREGORIAN
PRODID:-//Diputació de Barcelona//DibaCMS//EN
BEGIN:VEVENT
UID:4722
DTSTAMP:20260424T131822
DTSTART:20220501T113000
DTEND:20220501T123000
SUMMARY:Taller de Salsa
LOCATION:Plaça de l'Ajuntament 08370 Calella
METHOD:PUBLISH
X-WR-CALNAME:calella@calella.cat
X-WR-TIMEZONE:Europe/Madrid
DESCRIPTION:a càrrec de Carlos Emilio Mejias

URI:https://www.calella.cat/actualitat/agenda/taller-de-salsa.html
CLASS:PUBLIC
END:VEVENT
END:VCALENDAR
