BEGIN:VCALENDAR
VERSION:2.0
CALSCALE:GREGORIAN
PRODID:-//Diputació de Barcelona//DibaCMS//EN
BEGIN:VEVENT
UID:4719
DTSTAMP:20260424T022116
DTSTART:20220430T110000
DTEND:20220430T120000
SUMMARY:Taller de Swing, i ballada de Swing
LOCATION:Plaça de l'Ajuntament 08370 Calella
METHOD:PUBLISH
X-WR-CALNAME:calella@calella.cat
X-WR-TIMEZONE:Europe/Madrid
DESCRIPTION: 

a càrrec de Swing Maresme. Acte en el marc de la celebració del Dia Internacional de la Dansa. En cas de pluja la es farà a la Fàbrica Llobet.

 

URI:https://www.calella.cat/actualitat/agenda/taller-de-swing-i-ballada-de-swing.html
CLASS:PUBLIC
END:VEVENT
END:VCALENDAR
