BEGIN:VCALENDAR
VERSION:2.0
CALSCALE:GREGORIAN
PRODID:-//Diputació de Barcelona//DibaCMS//EN
BEGIN:VEVENT
UID:4717
DTSTAMP:20260424T115920
DTSTART:20220430T120000
DTEND:20220430T124500
SUMMARY:Conte de Dansa Teatralitzat
LOCATION:Plaça de l'Ajuntament, 31 08370 Calella
METHOD:PUBLISH
X-WR-CALNAME:calella@calella.cat
X-WR-TIMEZONE:Europe/Madrid
DESCRIPTION:a càrrec de Sílvia Serra

URI:https://www.calella.cat/actualitat/agenda/conte-de-dansa-teatralitzat.html
CLASS:PUBLIC
END:VEVENT
END:VCALENDAR
