BEGIN:VCALENDAR
VERSION:2.0
CALSCALE:GREGORIAN
PRODID:-//Diputació de Barcelona//DibaCMS//EN
BEGIN:VEVENT
UID:4716
DTSTAMP:20260423T231150
DTSTART:20220430T100000
DTEND:20220430T120000
SUMMARY:Jornada de Portes Obertes de l’Escola Bressol Municipal El Carrilet
LOCATION:c. Sant Jaume, 341 08370 Calella
METHOD:PUBLISH
X-WR-CALNAME:calella@calella.cat
X-WR-TIMEZONE:Europe/Madrid
DESCRIPTION:La visita presencial a les instal·lacions es farà amb grups reduïts i sense infants.

URI:https://www.calella.cat/actualitat/agenda/4716-jornada-de-portes-obertes-de-lescola-bressol-municipal-el-carrilet.html
CLASS:PUBLIC
END:VEVENT
END:VCALENDAR
