BEGIN:VCALENDAR
VERSION:2.0
CALSCALE:GREGORIAN
PRODID:-//Diputació de Barcelona//DibaCMS//EN
BEGIN:VEVENT
UID:4715
DTSTAMP:20260424T003732
DTSTART:20220430T100000
DTEND:20220430T203000
SUMMARY:Mercat Solidari de Segona Mà
LOCATION:Plaça de l'Església 08370 Calella
METHOD:PUBLISH
X-WR-CALNAME:calella@calella.cat
X-WR-TIMEZONE:Europe/Madrid
DESCRIPTION:Per col·laboració: Punts de recollida: c/ Amadeu, 82, Arreglat i planxat c/ Moragas, 72, Taller Martí c/ Indústria, 123.  A benefici de la Fundació Hàbitat Solidari. Organitza l’Associació Cívica Capaspre.

 

URI:https://www.calella.cat/actualitat/agenda/mercat-solidari-de-segona-ma.html
CLASS:PUBLIC
END:VEVENT
END:VCALENDAR
