BEGIN:VCALENDAR
VERSION:2.0
CALSCALE:GREGORIAN
PRODID:-//Diputació de Barcelona//DibaCMS//EN
BEGIN:VEVENT
UID:4714
DTSTAMP:20260423T225703
DTSTART:20220430T070000
DTEND:20220430T080000
SUMMARY:Rutes pels voltants de Calella
LOCATION:Passeig Marítim (davant estació RENFE) 08370 Calella
METHOD:PUBLISH
X-WR-CALNAME:calella@calella.cat
X-WR-TIMEZONE:Europe/Madrid
DESCRIPTION: 

Organitza: Associació Calella-Marxa. Per a més informació, al telèfon 655 81 20 07.

 

URI:https://www.calella.cat/actualitat/agenda/4714-rutes-pels-voltants-de-calella.html
CLASS:PUBLIC
END:VEVENT
END:VCALENDAR
