BEGIN:VCALENDAR
VERSION:2.0
CALSCALE:GREGORIAN
PRODID:-//Diputació de Barcelona//DibaCMS//EN
BEGIN:VEVENT
UID:4712
DTSTAMP:20260423T225720
DTSTART:20220429T183000
DTEND:20220429T193000
SUMMARY:5a Sessió d’òpera
LOCATION:c. Sant Jaume, 225-229 08370 Calella
METHOD:PUBLISH
X-WR-CALNAME:calella@calella.cat
X-WR-TIMEZONE:Europe/Madrid
DESCRIPTION:La nozze di Figaro de Wolfgang Amadeus Mozart a càrrec de Rosa Maria Carbonel

URI:https://www.calella.cat/actualitat/agenda/5a-sessio-dopera.html
CLASS:PUBLIC
END:VEVENT
END:VCALENDAR
