BEGIN:VCALENDAR
VERSION:2.0
CALSCALE:GREGORIAN
PRODID:-//Diputació de Barcelona//DibaCMS//EN
BEGIN:VEVENT
UID:4711
DTSTAMP:20260424T003909
DTSTART:20220429T093000
DTEND:20220429T110000
SUMMARY:Acció formativa “Fent comptes. Excel bàsic”
LOCATION:c. Sant Jaume, 225-229 08370 Calella
METHOD:PUBLISH
X-WR-CALNAME:calella@calella.cat
X-WR-TIMEZONE:Europe/Madrid
DESCRIPTION:Adreçada a persones aturades. A càrrec de Toni Figueredo Sanz. Organitza: Àrea d’Economia Local. Inscripcions a aj035.slo@calella.cat 

 

URI:https://www.calella.cat/actualitat/agenda/4711-accio-formativa-fent-comptes-excel-basic.html
CLASS:PUBLIC
END:VEVENT
END:VCALENDAR
