BEGIN:VCALENDAR
VERSION:2.0
CALSCALE:GREGORIAN
PRODID:-//Diputació de Barcelona//DibaCMS//EN
BEGIN:VEVENT
UID:4709
DTSTAMP:20260424T003938
DTSTART:20220429T180000
DTEND:20220429T190000
SUMMARY:Taller de ball
LOCATION:c. Sant Jaume, 225-229 08370 Calella
METHOD:PUBLISH
X-WR-CALNAME:calella@calella.cat
X-WR-TIMEZONE:Europe/Madrid
DESCRIPTION:És important expressar-nos artísticament

URI:https://www.calella.cat/actualitat/agenda/4709-taller-de-ball.html
CLASS:PUBLIC
END:VEVENT
END:VCALENDAR
