BEGIN:VCALENDAR
VERSION:2.0
CALSCALE:GREGORIAN
PRODID:-//Diputació de Barcelona//DibaCMS//EN
BEGIN:VEVENT
UID:4708
DTSTAMP:20260423T225630
DTSTART:20220428T210000
DTEND:20220428T230000
SUMMARY:Cicle Gaudí
LOCATION:c. Sant Jaume, 225-229 08370 Calella
METHOD:PUBLISH
X-WR-CALNAME:calella@calella.cat
X-WR-TIMEZONE:Europe/Madrid
DESCRIPTION:amb la pel·lícula Mediterráneo

URI:https://www.calella.cat/actualitat/agenda/cicle-gaudi.html
CLASS:PUBLIC
END:VEVENT
END:VCALENDAR
