BEGIN:VCALENDAR
VERSION:2.0
CALSCALE:GREGORIAN
PRODID:-//Diputació de Barcelona//DibaCMS//EN
BEGIN:VEVENT
UID:4707
DTSTAMP:20260424T003657
DTSTART:20220428T180000
DTEND:20220428T190000
SUMMARY:Sessió informativa “la meva primera feina d’estiu”
LOCATION:c. Sant Jaume, 225-229 08370 Calella
METHOD:PUBLISH
X-WR-CALNAME:calella@calella.cat
X-WR-TIMEZONE:Europe/Madrid
DESCRIPTION:Places limitades. Necessària inscripció prèvia. Més informació a l’Espai Jove, al 663348717, @calellajove o aj035.joventut@calella.cat
 

URI:https://www.calella.cat/actualitat/agenda/sessio-informativa-la-meva-primera-feina-destiu.html
CLASS:PUBLIC
END:VEVENT
END:VCALENDAR
