BEGIN:VCALENDAR
VERSION:2.0
CALSCALE:GREGORIAN
PRODID:-//Diputació de Barcelona//DibaCMS//EN
BEGIN:VEVENT
UID:4700
DTSTAMP:20260424T103034
DTSTART:20220425T183000
DTEND:20220425T193000
SUMMARY:Club de lectura
LOCATION:Plaça de l'Ajuntament, 31 08370 Calella
METHOD:PUBLISH
X-WR-CALNAME:calella@calella.cat
X-WR-TIMEZONE:Europe/Madrid
DESCRIPTION:Tardes de Tertúlia amb el comentari de: Les Pereres fan la flor blanca de Gerbrand Bakker a càrrec de Mercè Pujades

URI:https://www.calella.cat/actualitat/agenda/4700-club-de-lectura.html
CLASS:PUBLIC
END:VEVENT
END:VCALENDAR
