BEGIN:VCALENDAR
VERSION:2.0
CALSCALE:GREGORIAN
PRODID:-//Diputació de Barcelona//DibaCMS//EN
BEGIN:VEVENT
UID:4699
DTSTAMP:20260424T131736
DTSTART:20220425T180000
DTEND:20220425T190000
SUMMARY:Taller de primers auxilis
LOCATION:c. Sant Jaume, 225-229 08370 Calella
METHOD:PUBLISH
X-WR-CALNAME:calella@calella.cat
X-WR-TIMEZONE:Europe/Madrid
DESCRIPTION:
amb la col·laboració de Creu Roja

URI:https://www.calella.cat/actualitat/agenda/taller-de-primers-auxilis.html
CLASS:PUBLIC
END:VEVENT
END:VCALENDAR
