BEGIN:VCALENDAR
VERSION:2.0
CALSCALE:GREGORIAN
PRODID:-//Diputació de Barcelona//DibaCMS//EN
BEGIN:VEVENT
UID:4695
DTSTAMP:20260424T132258
DTSTART:20220424T190000
DTEND:20220424T200000
SUMMARY:La Música dels Poetes
LOCATION:c. Jovara, 39 08370 Calella
METHOD:PUBLISH
X-WR-CALNAME:calella@calella.cat
X-WR-TIMEZONE:Europe/Madrid
DESCRIPTION:
 en ocasió de l’Any Commemoratiu Maria Cardona (1922-1972)

URI:https://www.calella.cat/actualitat/agenda/la-musica-dels-poetes.html
CLASS:PUBLIC
END:VEVENT
END:VCALENDAR
