BEGIN:VCALENDAR
VERSION:2.0
CALSCALE:GREGORIAN
PRODID:-//Diputació de Barcelona//DibaCMS//EN
BEGIN:VEVENT
UID:4693
DTSTAMP:20260424T140218
DTSTART:20220424T113000
DTEND:20220424T120000
SUMMARY:Gala de cloenda i lliurament de premis del Festimatge’22
LOCATION:c. Sant Jaume, 225-229 08370 Calella
METHOD:PUBLISH
X-WR-CALNAME:calella@calella.cat
X-WR-TIMEZONE:Europe/Madrid
DESCRIPTION:
Organitza: Foto-Film Calella. www.festimatge.org

URI:https://www.calella.cat/actualitat/agenda/gala-de-cloenda-i-lliurament-de-premis-del-festimatge22.html
CLASS:PUBLIC
END:VEVENT
END:VCALENDAR
