BEGIN:VCALENDAR
VERSION:2.0
CALSCALE:GREGORIAN
PRODID:-//Diputació de Barcelona//DibaCMS//EN
BEGIN:VEVENT
UID:4692
DTSTAMP:20260424T133616
DTSTART:20220424T091500
DTEND:20220424T140000
SUMMARY: 26a Trobada d’Aficionats al Truc
LOCATION:Plaça d’Espanya 
METHOD:PUBLISH
X-WR-CALNAME:calella@calella.cat
X-WR-TIMEZONE:Europe/Madrid
DESCRIPTION:
Organitzat per Gent de Barri de Pequín de Calella. 

URI:https://www.calella.cat/actualitat/agenda/-26a-trobada-daficionats-al-truc.html
CLASS:PUBLIC
END:VEVENT
END:VCALENDAR
