BEGIN:VCALENDAR
VERSION:2.0
CALSCALE:GREGORIAN
PRODID:-//Diputació de Barcelona//DibaCMS//EN
BEGIN:VEVENT
UID:4691
DTSTAMP:20260424T103105
DTSTART:20220423T190000
DTEND:20220423T200000
SUMMARY:Homenatge a Encarnació Soler, historiadora i Coordinadora del Certamen 9,5mm
LOCATION:c. Sant Jaume, 225-229 08370 Calella
METHOD:PUBLISH
X-WR-CALNAME:calella@calella.cat
X-WR-TIMEZONE:Europe/Madrid
DESCRIPTION:Organitza: Foto-Film Calella www.festimatge.org

URI:https://www.calella.cat/actualitat/agenda/homenatge-a-encarnacio-soler-historiadora-i-coordinadora-del-certamen-95mm.html
CLASS:PUBLIC
END:VEVENT
END:VCALENDAR
