BEGIN:VCALENDAR
VERSION:2.0
CALSCALE:GREGORIAN
PRODID:-//Diputació de Barcelona//DibaCMS//EN
BEGIN:VEVENT
UID:4690
DTSTAMP:20260424T114630
DTSTART:20220423T180000
DTEND:20220423T190000
SUMMARY:Activa’t el finde: taller de grafits
LOCATION:c. Anselm Clavé, s/n 08370 Calella
METHOD:PUBLISH
X-WR-CALNAME:calella@calella.cat
X-WR-TIMEZONE:Europe/Madrid
DESCRIPTION: 

Més informació a l’Espai Jove, al 663348717, @calellajove o aj035.joventut@calella.cat. 

 

URI:https://www.calella.cat/actualitat/agenda/activat-el-finde-taller-de-grafits.html
CLASS:PUBLIC
END:VEVENT
END:VCALENDAR
