BEGIN:VCALENDAR
VERSION:2.0
CALSCALE:GREGORIAN
PRODID:-//Diputació de Barcelona//DibaCMS//EN
BEGIN:VEVENT
UID:4687
DTSTAMP:20260424T102815
DTSTART:20220423T123000
DTEND:20220423T133000
SUMMARY:Exhibició “El Telecine: d’analògic a digital”, demostració de l’aparell de Telecinat creat per Joan Aguado
LOCATION:c. Sant Pere, 152 08370 Calella
METHOD:PUBLISH
X-WR-CALNAME:calella@calella.cat
X-WR-TIMEZONE:Europe/Madrid
DESCRIPTION:Dins el Mercat del Col·leccionista.

URI:https://www.calella.cat/actualitat/agenda/exhibicio-el-telecine-danalogic-a-digital-demostracio-de-laparell-de-telecinat-creat-per-joan-aguado.html
CLASS:PUBLIC
END:VEVENT
END:VCALENDAR
