BEGIN:VCALENDAR
VERSION:2.0
CALSCALE:GREGORIAN
PRODID:-//Diputació de Barcelona//DibaCMS//EN
BEGIN:VEVENT
UID:4685
DTSTAMP:20260424T133400
DTSTART:20220423T110000
DTEND:20220423T120000
SUMMARY:Taller de filmació en 9,5mm a càrrec Ramon Gassó
LOCATION:c. Sant Pere, 152 08370 Calella
METHOD:PUBLISH
X-WR-CALNAME:calella@calella.cat
X-WR-TIMEZONE:Europe/Madrid
DESCRIPTION:dins el Mercat del Col·leccionista

URI:https://www.calella.cat/actualitat/agenda/taller-de-filmacio-en-95mm-a-carrec-ramon-gasso.html
CLASS:PUBLIC
END:VEVENT
END:VCALENDAR
