BEGIN:VCALENDAR
VERSION:2.0
CALSCALE:GREGORIAN
PRODID:-//Diputació de Barcelona//DibaCMS//EN
BEGIN:VEVENT
UID:4684
DTSTAMP:20260424T035818
DTSTART:20220423T100000
DTEND:20220423T140000
SUMMARY:Mercat del Col·leccionista de Cinema
LOCATION:c. Sant Pere, 152 08370 Calella
METHOD:PUBLISH
X-WR-CALNAME:calella@calella.cat
X-WR-TIMEZONE:Europe/Madrid
DESCRIPTION:dins del Festimatge’22

URI:https://www.calella.cat/actualitat/agenda/mercat-del-colleccionista-de-cinema.html
CLASS:PUBLIC
END:VEVENT
END:VCALENDAR
