BEGIN:VCALENDAR
VERSION:2.0
CALSCALE:GREGORIAN
PRODID:-//Diputació de Barcelona//DibaCMS//EN
BEGIN:VEVENT
UID:4683
DTSTAMP:20260424T114554
DTSTART:20220423T103000
DTEND:20220423T130000
SUMMARY:XVI Lectura pública de Sant Jordi: La Llopa i altres històries de Calella
LOCATION:Plaça de l'Ajuntament, 31 08370 Calella
METHOD:PUBLISH
X-WR-CALNAME:calella@calella.cat
X-WR-TIMEZONE:Europe/Madrid
DESCRIPTION:Organitza: Amics de la Biblioteca. 

URI:https://www.calella.cat/actualitat/agenda/xvi-lectura-publica-de-sant-jordi-la-llopa-i-altres-histories-de-calella.html
CLASS:PUBLIC
END:VEVENT
END:VCALENDAR
