BEGIN:VCALENDAR
VERSION:2.0
CALSCALE:GREGORIAN
PRODID:-//Diputació de Barcelona//DibaCMS//EN
BEGIN:VEVENT
UID:4682
DTSTAMP:20260424T040913
DTSTART:20220423T100000
DTEND:20220423T130000
SUMMARY:IV Trobada d’intercanvi de punts de llibre
LOCATION:Plaça de l'Ajuntament 08370 Calella
METHOD:PUBLISH
X-WR-CALNAME:calella@calella.cat
X-WR-TIMEZONE:Europe/Madrid
DESCRIPTION:
Organitza: Amics de la Biblioteca

URI:https://www.calella.cat/actualitat/agenda/iv-trobada-dintercanvi-de-punts-de-llibre.html
CLASS:PUBLIC
END:VEVENT
END:VCALENDAR
