BEGIN:VCALENDAR
VERSION:2.0
CALSCALE:GREGORIAN
PRODID:-//Diputació de Barcelona//DibaCMS//EN
BEGIN:VEVENT
UID:4681
DTSTAMP:20260424T022038
DTSTART:20220423T100000
DTEND:20220423T190000
SUMMARY:Fira del llibre i de la rosa
LOCATION:c. Anselm Clavé, s/n 08370 Calella
METHOD:PUBLISH
X-WR-CALNAME:calella@calella.cat
X-WR-TIMEZONE:Europe/Madrid
DESCRIPTION:Organitza: Ajuntament de Calella

URI:https://www.calella.cat/actualitat/agenda/fira-del-llibre-i-de-la-rosa.html
CLASS:PUBLIC
END:VEVENT
END:VCALENDAR
