BEGIN:VCALENDAR
VERSION:2.0
CALSCALE:GREGORIAN
PRODID:-//Diputació de Barcelona//DibaCMS//EN
BEGIN:VEVENT
UID:4679
DTSTAMP:20260424T052303
DTSTART:20220422T180000
DTEND:20220422T190000
SUMMARY:Torneig de ping pong
LOCATION:c. Sant Jaume, 225-229 08370 Calella
METHOD:PUBLISH
X-WR-CALNAME:calella@calella.cat
X-WR-TIMEZONE:Europe/Madrid
DESCRIPTION:Places limitades. Necessària inscripció prèvia. Més informació a l’Espai Jove, al 663348717, @calellajove o aj035.joventut@calella.cat.

 

URI:https://www.calella.cat/actualitat/agenda/4679-torneig-de-ping-pong.html
CLASS:PUBLIC
END:VEVENT
END:VCALENDAR
