BEGIN:VCALENDAR
VERSION:2.0
CALSCALE:GREGORIAN
PRODID:-//Diputació de Barcelona//DibaCMS//EN
BEGIN:VEVENT
UID:4677
DTSTAMP:20260424T005112
DTSTART:20220422T103000
DTEND:20220422T113000
SUMMARY:Matinal de cinema jove amb alumnes de l’Institut Euclides dins del Festimatge’22
LOCATION:c. Sant Pere, 152 08370 Calella
METHOD:PUBLISH
X-WR-CALNAME:calella@calella.cat
X-WR-TIMEZONE:Europe/Madrid
DESCRIPTION:
Foto-Film Calella www.festimatge.org.

URI:https://www.calella.cat/actualitat/agenda/matinal-de-cinema-jove-amb-alumnes-de-linstitut-euclides-dins-del-festimatge22.html
CLASS:PUBLIC
END:VEVENT
END:VCALENDAR
