BEGIN:VCALENDAR
VERSION:2.0
CALSCALE:GREGORIAN
PRODID:-//Diputació de Barcelona//DibaCMS//EN
BEGIN:VEVENT
UID:4675
DTSTAMP:20260424T035931
DTSTART:20220421T193000
DTEND:20220421T203000
SUMMARY:Presentació del llibre: Havaneres del segle XIX a Catalunya,  de Miquel Peralba i Cirera
LOCATION:C. Església, 93 08370 Calella
METHOD:PUBLISH
X-WR-CALNAME:calella@calella.cat
X-WR-TIMEZONE:Europe/Madrid
DESCRIPTION:
Organitza: Ass. Foment de l’Havanera de Calella

URI:https://www.calella.cat/actualitat/agenda/presentacio-del-llibre-havaneres-del-segle-xix-a-catalunya-de-miquel-peralba-i-cirera.html
CLASS:PUBLIC
END:VEVENT
END:VCALENDAR
