BEGIN:VCALENDAR
VERSION:2.0
CALSCALE:GREGORIAN
PRODID:-//Diputació de Barcelona//DibaCMS//EN
BEGIN:VEVENT
UID:4674
DTSTAMP:20260424T005203
DTSTART:20220421T183000
DTEND:20220421T193000
SUMMARY:Presentació llibre, "Som dones, som lingüistes, som moltes..." de Carme Junyent
LOCATION:Plaça de l'Ajuntament, 31 08370 Calella
METHOD:PUBLISH
X-WR-CALNAME:calella@calella.cat
X-WR-TIMEZONE:Europe/Madrid
DESCRIPTION:Amb col·laboració llibreria La Llopa

URI:https://www.calella.cat/actualitat/agenda/presentacio-llibre-som-dones-som-linguistes-som-moltes-de-carme-junyent.html
CLASS:PUBLIC
END:VEVENT
END:VCALENDAR
