BEGIN:VCALENDAR
VERSION:2.0
CALSCALE:GREGORIAN
PRODID:-//Diputació de Barcelona//DibaCMS//EN
BEGIN:VEVENT
UID:4673
DTSTAMP:20260424T035835
DTSTART:20220421T180000
DTEND:20220421T190000
SUMMARY:Tècniques del tennis taula 
LOCATION:c. Sant Jaume, 225-229 08370 Calella
METHOD:PUBLISH
X-WR-CALNAME:calella@calella.cat
X-WR-TIMEZONE:Europe/Madrid
DESCRIPTION:amb la col·laboració de Tennis Taula Calella.

URI:https://www.calella.cat/actualitat/agenda/tecniques-del-tennis-taula-.html
CLASS:PUBLIC
END:VEVENT
END:VCALENDAR
