BEGIN:VCALENDAR
VERSION:2.0
CALSCALE:GREGORIAN
PRODID:-//Diputació de Barcelona//DibaCMS//EN
BEGIN:VEVENT
UID:4672
DTSTAMP:20260424T060826
DTSTART:20220421T160000
DTEND:20220421T170000
SUMMARY:Assessoria presencial de mobilitat internacional
LOCATION:c. Sant Jaume, 225-229 08370 Calella
METHOD:PUBLISH
X-WR-CALNAME:calella@calella.cat
X-WR-TIMEZONE:Europe/Madrid
DESCRIPTION:Necessària inscripció prèvia. Més informació a l’Espai Jove, al 663348717, @calellajove o aj035.joventut@calella.cat. 

URI:https://www.calella.cat/actualitat/agenda/4672-assessoria-presencial-de-mobilitat-internacional.html
CLASS:PUBLIC
END:VEVENT
END:VCALENDAR
