BEGIN:VCALENDAR
VERSION:2.0
CALSCALE:GREGORIAN
PRODID:-//Diputació de Barcelona//DibaCMS//EN
BEGIN:VEVENT
UID:4671
DTSTAMP:20260424T023222
DTSTART:20220421T180000
DTEND:20220421T190000
SUMMARY:Jornada de Portes Obertes de l’Escola Bressol Municipal El Carrilet - duplicat
LOCATION:c. Sant Jaume, 341 08370 Calella
METHOD:PUBLISH
X-WR-CALNAME:calella@calella.cat
X-WR-TIMEZONE:Europe/Madrid
DESCRIPTION:La visita presencial a les instal·lacions es farà amb grups reduïts i sense infants. 

URI:https://www.calella.cat/actualitat/agenda/jornada-de-portes-obertes-de-lescola-bressol-municipal-el-carrilet-duplicat.html
CLASS:PUBLIC
END:VEVENT
END:VCALENDAR
