BEGIN:VCALENDAR
VERSION:2.0
CALSCALE:GREGORIAN
PRODID:-//Diputació de Barcelona//DibaCMS//EN
BEGIN:VEVENT
UID:4667
DTSTAMP:20260423T230329
DTSTART:20220420T183000
DTEND:20220420T193000
SUMMARY:Quan Europa va redescobrir Xina
LOCATION:c. Sant Jaume, 225-229 08370 Calella
METHOD:PUBLISH
X-WR-CALNAME:calella@calella.cat
X-WR-TIMEZONE:Europe/Madrid
DESCRIPTION:A càrrec de Dr. Diego Sola Professor d’Història Moderna de la Universitat de Barcelona. Informació www.aulacalella.cat  937692467 

URI:https://www.calella.cat/actualitat/agenda/quan-europa-va-redescobrir-xina.html
CLASS:PUBLIC
END:VEVENT
END:VCALENDAR
