BEGIN:VCALENDAR
VERSION:2.0
CALSCALE:GREGORIAN
PRODID:-//Diputació de Barcelona//DibaCMS//EN
BEGIN:VEVENT
UID:4665
DTSTAMP:20260423T212319
DTSTART:20220420T180000
DTEND:20220420T190000
SUMMARY:Hora del Conte “Sant Jordi al revés”
LOCATION:Plaça de l'Ajuntament, 31 08370 Calella
METHOD:PUBLISH
X-WR-CALNAME:calella@calella.cat
X-WR-TIMEZONE:Europe/Madrid
DESCRIPTION:a càrrec de la Minúscula.

URI:https://www.calella.cat/actualitat/agenda/hora-del-conte-sant-jordi-al-reves.html
CLASS:PUBLIC
END:VEVENT
END:VCALENDAR
