BEGIN:VCALENDAR
VERSION:2.0
CALSCALE:GREGORIAN
PRODID:-//Diputació de Barcelona//DibaCMS//EN
BEGIN:VEVENT
UID:4664
DTSTAMP:20260424T021227
DTSTART:20220420T093000
DTEND:20220420T110000
SUMMARY:Acció formativa “Coneixes el SSI de Linkedin? L’eina que us durà a l’èxit en aquesta xarxa”
LOCATION:c. Sant Jaume, 225-229 08370 Calella
METHOD:PUBLISH
X-WR-CALNAME:calella@calella.cat
X-WR-TIMEZONE:Europe/Madrid
DESCRIPTION:Adreçada a persones aturades. A càrrec de Francesc Gelida Latorre. Organitza: Àrea d’Economia Local. Inscripcions a aj035.slo@calella.cat. 

URI:https://www.calella.cat/actualitat/agenda/accio-formativa-coneixes-el-ssi-de-linkedin-leina-que-us-dura-a-lexit-en-aquesta-xarxa.html
CLASS:PUBLIC
END:VEVENT
END:VCALENDAR
