BEGIN:VCALENDAR
VERSION:2.0
CALSCALE:GREGORIAN
PRODID:-//Diputació de Barcelona//DibaCMS//EN
BEGIN:VEVENT
UID:4661
DTSTAMP:20260423T195801
DTSTART:20220419T183000
DTEND:20220419T193000
SUMMARY:Grup de conversa en anglès The lovely people club
LOCATION:Plaça de l'Ajuntament, 31 08370 Calella
METHOD:PUBLISH
X-WR-CALNAME:calella@calella.cat
X-WR-TIMEZONE:Europe/Madrid
DESCRIPTION:
a càrrec de Siân Mathias.


URI:https://www.calella.cat/actualitat/agenda/4661-grup-de-conversa-en-angles-the-lovely-people-club.html
CLASS:PUBLIC
END:VEVENT
END:VCALENDAR
