BEGIN:VCALENDAR
VERSION:2.0
CALSCALE:GREGORIAN
PRODID:-//Diputació de Barcelona//DibaCMS//EN
BEGIN:VEVENT
UID:4659
DTSTAMP:20260423T212135
DTSTART:20220419T000000
DTEND:20220419T000000
SUMMARY:Jornada de Portes Obertes de Cicles Formatius de l’Institut Bisbe Sivilla
LOCATION:
METHOD:PUBLISH
X-WR-CALNAME:calella@calella.cat
X-WR-TIMEZONE:Europe/Madrid
DESCRIPTION:Xerrada telemàtica i possibilitat de visites en grup de 10 persones, prèvia inscripció.

URI:https://www.calella.cat/actualitat/agenda/jornada-de-portes-obertes-de-cicles-formatius-de-linstitut-bisbe-sivilla.html
CLASS:PUBLIC
END:VEVENT
END:VCALENDAR
