BEGIN:VCALENDAR
VERSION:2.0
CALSCALE:GREGORIAN
PRODID:-//Diputació de Barcelona//DibaCMS//EN
BEGIN:VEVENT
UID:4657
DTSTAMP:20260423T211701
DTSTART:20220417T131500
DTEND:20220417T140000
SUMMARY:Cant de l’Àngel
LOCATION:Plaça de l'Ajuntament, 9 08370 Calella
METHOD:PUBLISH
X-WR-CALNAME:calella@calella.cat
X-WR-TIMEZONE:Europe/Madrid
DESCRIPTION:Direcció del cant a càrrec de la Parròquia, amb Adrià Gómez Grima  (veu) i Núria Grima (direcció musical). 

URI:https://www.calella.cat/actualitat/agenda/cant-de-langel.html
CLASS:PUBLIC
END:VEVENT
END:VCALENDAR
