BEGIN:VCALENDAR
VERSION:2.0
CALSCALE:GREGORIAN
PRODID:-//Diputació de Barcelona//DibaCMS//EN
BEGIN:VEVENT
UID:4656
DTSTAMP:20260424T005259
DTSTART:20220417T130000
DTEND:20220417T140000
SUMMARY:Processó amb la imatge de la Verge dels Dolors i l’Àngel
LOCATION:
METHOD:PUBLISH
X-WR-CALNAME:calella@calella.cat
X-WR-TIMEZONE:Europe/Madrid
DESCRIPTION:Sortida del portal gran de la Parròquia de Santa Maria i Sant Nicolau, pels carrers Bisbe Sivilla fins a la plaça de l’Ajuntament. 

URI:https://www.calella.cat/actualitat/agenda/processo-amb-la-imatge-de-la-verge-dels-dolors-i-langel.html
CLASS:PUBLIC
END:VEVENT
END:VCALENDAR
